Package: CleanUpRNAseq Version: 1.1.1 Command: /home/biocbuild/R/R/bin/R CMD INSTALL CleanUpRNAseq StartedAt: 2025-01-29 20:22:00 -0000 (Wed, 29 Jan 2025) EndedAt: 2025-01-29 20:22:58 -0000 (Wed, 29 Jan 2025) EllapsedTime: 58.1 seconds RetCode: 0 Status: OK