Package: ClassifyR Version: 3.11.7 Command: rm -rf ClassifyR.buildbin-libdir && mkdir ClassifyR.buildbin-libdir && E:\biocbuild\bbs-3.21-bioc\R\bin\R.exe CMD INSTALL --build --library=ClassifyR.buildbin-libdir ClassifyR_3.11.7.tar.gz StartedAt: 2025-02-01 06:55:05 -0500 (Sat, 01 Feb 2025) EndedAt: 2025-02-01 06:56:34 -0500 (Sat, 01 Feb 2025) EllapsedTime: 89.4 seconds RetCode: 0 Status: OK PackageFile: ClassifyR_3.11.7.zip PackageFileSize: 2.217 MiB