Package: ClassifyR Version: 3.11.7 Command: /Library/Frameworks/R.framework/Resources/bin/R CMD check --install=check:ClassifyR.install-out.txt --library=/Library/Frameworks/R.framework/Resources/library --no-vignettes --timings ClassifyR_3.11.7.tar.gz StartedAt: 2025-01-31 18:33:28 -0500 (Fri, 31 Jan 2025) EndedAt: 2025-01-31 18:35:20 -0500 (Fri, 31 Jan 2025) EllapsedTime: 112.3 seconds RetCode: 0 Status: WARNINGS CheckDir: ClassifyR.Rcheck Warnings: 2