Package: ClassifyR Version: 3.11.7 Command: rm -rf ClassifyR.buildbin-libdir && mkdir ClassifyR.buildbin-libdir && /Users/biocbuild/BBS/utils/build-universal.sh ClassifyR_3.11.7.tar.gz /Library/Frameworks/R.framework/Resources/bin/R ClassifyR.buildbin-libdir StartedAt: 2025-01-31 22:11:27 -0500 (Fri, 31 Jan 2025) EndedAt: 2025-01-31 22:11:42 -0500 (Fri, 31 Jan 2025) EllapsedTime: 15.2 seconds RetCode: 0 Status: OK PackageFile: ClassifyR_3.11.7.tgz PackageFileSize: 2.53 MiB