Package: CiteFuse Version: 1.19.0 Command: /home/biocbuild/bbs-3.21-bioc/R/bin/R CMD INSTALL CiteFuse StartedAt: 2025-01-31 15:55:59 -0500 (Fri, 31 Jan 2025) EndedAt: 2025-01-31 15:56:46 -0500 (Fri, 31 Jan 2025) EllapsedTime: 47.0 seconds RetCode: 0 Status: OK