Package: ChIPseeker Version: 1.43.0 Command: /home/biocbuild/bbs-3.21-bioc/R/bin/R CMD INSTALL ChIPseeker StartedAt: 2025-01-31 15:45:58 -0500 (Fri, 31 Jan 2025) EndedAt: 2025-01-31 15:46:45 -0500 (Fri, 31 Jan 2025) EllapsedTime: 47.4 seconds RetCode: 0 Status: OK