Package: ChIPseeker Version: 1.43.0 Command: /home/biocbuild/bbs-3.21-bioc/R/bin/R CMD build --keep-empty-dirs --no-resave-data ChIPseeker StartedAt: 2025-01-31 16:40:43 -0500 (Fri, 31 Jan 2025) EndedAt: 2025-01-31 16:48:20 -0500 (Fri, 31 Jan 2025) EllapsedTime: 457.5 seconds RetCode: 0 Status: OK PackageFile: ChIPseeker_1.43.0.tar.gz PackageFileSize: 7.237 MiB