Package: ChIPseeker Version: 1.43.0 Command: /Library/Frameworks/R.framework/Resources/bin/R CMD INSTALL ChIPseeker StartedAt: 2025-02-02 15:31:42 -0500 (Sun, 02 Feb 2025) EndedAt: 2025-02-02 15:32:43 -0500 (Sun, 02 Feb 2025) EllapsedTime: 61.1 seconds RetCode: 0 Status: OK