Package: ChIPanalyser Version: 1.29.0 Command: E:\biocbuild\bbs-3.21-bioc\R\bin\R.exe CMD check --no-multiarch --install=check:ChIPanalyser.install-out.txt --library=E:\biocbuild\bbs-3.21-bioc\R\library --no-vignettes --timings ChIPanalyser_1.29.0.tar.gz StartedAt: 2025-02-02 23:30:41 -0500 (Sun, 02 Feb 2025) EndedAt: 2025-02-02 23:37:15 -0500 (Sun, 02 Feb 2025) EllapsedTime: 393.7 seconds RetCode: 0 Status: OK CheckDir: ChIPanalyser.Rcheck Warnings: 0