Package: ChIPanalyser Version: 1.29.0 Command: chmod a+r ChIPanalyser -R && E:\biocbuild\bbs-3.21-bioc\R\bin\R.exe CMD build --keep-empty-dirs --no-resave-data ChIPanalyser StartedAt: 2025-02-02 17:46:08 -0500 (Sun, 02 Feb 2025) EndedAt: 2025-02-02 18:03:58 -0500 (Sun, 02 Feb 2025) EllapsedTime: 1069.9 seconds RetCode: 0 Status: OK PackageFile: ChIPanalyser_1.29.0.tar.gz PackageFileSize: 1.194 MiB