Package: ChIPanalyser Version: 1.29.0 Command: /home/biocbuild/bbs-3.21-bioc/R/bin/R CMD build --keep-empty-dirs --no-resave-data ChIPanalyser StartedAt: 2025-01-31 16:40:02 -0500 (Fri, 31 Jan 2025) EndedAt: 2025-01-31 16:55:32 -0500 (Fri, 31 Jan 2025) EllapsedTime: 929.1 seconds RetCode: 0 Status: OK PackageFile: ChIPanalyser_1.29.0.tar.gz PackageFileSize: 1.164 MiB