Package: ChIPanalyser Version: 1.29.0 Command: /Library/Frameworks/R.framework/Resources/bin/R CMD build --keep-empty-dirs --no-resave-data ChIPanalyser StartedAt: 2025-02-02 16:09:56 -0500 (Sun, 02 Feb 2025) EndedAt: 2025-02-02 16:29:35 -0500 (Sun, 02 Feb 2025) EllapsedTime: 1179.3 seconds RetCode: 0 Status: OK PackageFile: ChIPanalyser_1.29.0.tar.gz PackageFileSize: 1018 KiB