Package: ChIPanalyser Version: 1.29.0 Command: rm -rf ChIPanalyser.buildbin-libdir && mkdir ChIPanalyser.buildbin-libdir && /Users/biocbuild/BBS/utils/build-universal.sh ChIPanalyser_1.29.0.tar.gz /Library/Frameworks/R.framework/Resources/bin/R ChIPanalyser.buildbin-libdir StartedAt: 2025-02-03 00:16:18 -0500 (Mon, 03 Feb 2025) EndedAt: 2025-02-03 00:17:11 -0500 (Mon, 03 Feb 2025) EllapsedTime: 53.1 seconds RetCode: 0 Status: OK PackageFile: ChIPanalyser_1.29.0.tgz PackageFileSize: 1.77 MiB