Package: Cepo Version: 1.13.0 Command: /home/biocbuild/R/R/bin/R CMD INSTALL Cepo StartedAt: 2025-01-29 19:51:56 -0000 (Wed, 29 Jan 2025) EndedAt: 2025-01-29 19:52:47 -0000 (Wed, 29 Jan 2025) EllapsedTime: 50.9 seconds RetCode: 0 Status: OK