Package: Cepo Version: 1.13.0 Command: /home/biocbuild/R/R/bin/R CMD check --install=check:Cepo.install-out.txt --library=/home/biocbuild/R/R/site-library --no-vignettes --timings Cepo_1.13.0.tar.gz StartedAt: 2025-01-24 06:24:46 -0000 (Fri, 24 Jan 2025) EndedAt: 2025-01-24 06:30:04 -0000 (Fri, 24 Jan 2025) EllapsedTime: 317.3 seconds RetCode: 0 Status: OK CheckDir: Cepo.Rcheck Warnings: 0