Package: CellScore Version: 1.27.0 Command: rm -rf CellScore.buildbin-libdir && mkdir CellScore.buildbin-libdir && E:\biocbuild\bbs-3.21-bioc\R\bin\R.exe CMD INSTALL --build --library=CellScore.buildbin-libdir CellScore_1.27.0.tar.gz StartedAt: 2025-02-01 06:52:39 -0500 (Sat, 01 Feb 2025) EndedAt: 2025-02-01 06:53:07 -0500 (Sat, 01 Feb 2025) EllapsedTime: 28.6 seconds RetCode: 0 Status: OK PackageFile: CellScore_1.27.0.zip PackageFileSize: 4.267 MiB