Package: CellScore Version: 1.27.0 Command: /Library/Frameworks/R.framework/Resources/bin/R CMD INSTALL CellScore StartedAt: 2025-01-31 15:13:45 -0500 (Fri, 31 Jan 2025) EndedAt: 2025-01-31 15:14:12 -0500 (Fri, 31 Jan 2025) EllapsedTime: 27.3 seconds RetCode: 0 Status: OK