Package: CellScore Version: 1.27.0 Command: /Library/Frameworks/R.framework/Resources/bin/R CMD build --keep-empty-dirs --no-resave-data CellScore StartedAt: 2025-01-31 16:11:53 -0500 (Fri, 31 Jan 2025) EndedAt: 2025-01-31 16:14:42 -0500 (Fri, 31 Jan 2025) EllapsedTime: 168.9 seconds RetCode: 0 Status: OK PackageFile: CellScore_1.27.0.tar.gz PackageFileSize: 4.216 MiB