Package: CellScore Version: 1.27.0 Command: /Library/Frameworks/R.framework/Resources/bin/R CMD INSTALL CellScore StartedAt: 2025-01-31 15:04:37 -0500 (Fri, 31 Jan 2025) EndedAt: 2025-01-31 15:04:45 -0500 (Fri, 31 Jan 2025) EllapsedTime: 8.3 seconds RetCode: 0 Status: OK