Package: CellNOptR Version: 1.53.0 Command: chmod a+r CellNOptR -R && E:\biocbuild\bbs-3.21-bioc\R\bin\R.exe CMD build --keep-empty-dirs --no-resave-data CellNOptR StartedAt: 2025-01-31 17:36:45 -0500 (Fri, 31 Jan 2025) EndedAt: 2025-01-31 17:37:47 -0500 (Fri, 31 Jan 2025) EllapsedTime: 61.6 seconds RetCode: 0 Status: OK PackageFile: CellNOptR_1.53.0.tar.gz PackageFileSize: 3.262 MiB