Package: CellBarcode Version: 1.13.1 Command: /home/biocbuild/bbs-3.21-bioc/R/bin/R CMD check --install=check:CellBarcode.install-out.txt --library=/home/biocbuild/bbs-3.21-bioc/R/site-library --timings CellBarcode_1.13.1.tar.gz StartedAt: 2025-01-31 20:46:52 -0500 (Fri, 31 Jan 2025) EndedAt: 2025-01-31 20:51:47 -0500 (Fri, 31 Jan 2025) EllapsedTime: 294.4 seconds RetCode: 0 Status: OK CheckDir: CellBarcode.Rcheck Warnings: 0