Package: CellBarcode Version: 1.13.1 Command: /home/biocbuild/bbs-3.21-bioc/R/bin/R CMD build --keep-empty-dirs --no-resave-data CellBarcode StartedAt: 2025-01-31 16:36:08 -0500 (Fri, 31 Jan 2025) EndedAt: 2025-01-31 16:37:41 -0500 (Fri, 31 Jan 2025) EllapsedTime: 93.1 seconds RetCode: 0 Status: OK PackageFile: CellBarcode_1.13.1.tar.gz PackageFileSize: 3.143 MiB