Package: CardinalIO Version: 1.5.0 Command: /Library/Frameworks/R.framework/Resources/bin/R CMD check --install=check:CardinalIO.install-out.txt --library=/Library/Frameworks/R.framework/Resources/library --no-vignettes --timings CardinalIO_1.5.0.tar.gz StartedAt: 2025-01-31 18:25:16 -0500 (Fri, 31 Jan 2025) EndedAt: 2025-01-31 18:25:51 -0500 (Fri, 31 Jan 2025) EllapsedTime: 35.4 seconds RetCode: 0 Status: OK CheckDir: CardinalIO.Rcheck Warnings: 0