Package: CardinalIO Version: 1.5.0 Command: /Library/Frameworks/R.framework/Resources/bin/R CMD build --keep-empty-dirs --no-resave-data CardinalIO StartedAt: 2025-01-31 15:47:31 -0500 (Fri, 31 Jan 2025) EndedAt: 2025-01-31 15:47:41 -0500 (Fri, 31 Jan 2025) EllapsedTime: 10.1 seconds RetCode: 0 Status: OK PackageFile: CardinalIO_1.5.0.tar.gz PackageFileSize: 966.5 KiB