Package: CTdata Version: 1.7.0 Command: /Library/Frameworks/R.framework/Resources/bin/R CMD INSTALL CTdata StartedAt: 2025-01-31 15:08:52 -0500 (Fri, 31 Jan 2025) EndedAt: 2025-01-31 15:08:58 -0500 (Fri, 31 Jan 2025) EllapsedTime: 5.5 seconds RetCode: 0 Status: OK