Package: CRImage Version: 1.55.0 Command: /Library/Frameworks/R.framework/Resources/bin/R CMD build --keep-empty-dirs --no-resave-data CRImage StartedAt: 2025-01-31 16:22:59 -0500 (Fri, 31 Jan 2025) EndedAt: 2025-01-31 16:23:26 -0500 (Fri, 31 Jan 2025) EllapsedTime: 26.2 seconds RetCode: 0 Status: OK PackageFile: CRImage_1.55.0.tar.gz PackageFileSize: 7.651 MiB