Package: CRImage Version: 1.55.0 Command: /Library/Frameworks/R.framework/Resources/bin/R CMD check --install=check:CRImage.install-out.txt --library=/Library/Frameworks/R.framework/Resources/library --no-vignettes --timings CRImage_1.55.0.tar.gz StartedAt: 2025-01-31 18:43:22 -0500 (Fri, 31 Jan 2025) EndedAt: 2025-01-31 18:43:55 -0500 (Fri, 31 Jan 2025) EllapsedTime: 32.4 seconds RetCode: 0 Status: OK CheckDir: CRImage.Rcheck Warnings: 0