Package: CONSTANd Version: 1.15.0 Command: chmod a+r CONSTANd -R && E:\biocbuild\bbs-3.21-bioc\R\bin\R.exe CMD build --keep-empty-dirs --no-resave-data CONSTANd StartedAt: 2025-01-31 17:54:10 -0500 (Fri, 31 Jan 2025) EndedAt: 2025-01-31 17:54:31 -0500 (Fri, 31 Jan 2025) EllapsedTime: 20.8 seconds RetCode: 0 Status: OK PackageFile: CONSTANd_1.15.0.tar.gz PackageFileSize: 1.669 MiB