Package: CONFESS Version: 1.35.0 Command: /home/biocbuild/bbs-3.21-bioc/R/bin/R CMD build --keep-empty-dirs --no-resave-data CONFESS StartedAt: 2025-01-31 16:48:42 -0500 (Fri, 31 Jan 2025) EndedAt: 2025-01-31 16:51:44 -0500 (Fri, 31 Jan 2025) EllapsedTime: 182.2 seconds RetCode: 0 Status: OK PackageFile: CONFESS_1.35.0.tar.gz PackageFileSize: 3.588 MiB