Package: CONFESS Version: 1.35.0 Command: /Library/Frameworks/R.framework/Resources/bin/R CMD INSTALL CONFESS StartedAt: 2025-01-31 15:21:12 -0500 (Fri, 31 Jan 2025) EndedAt: 2025-01-31 15:21:38 -0500 (Fri, 31 Jan 2025) EllapsedTime: 26.6 seconds RetCode: 0 Status: OK