Package: COMPASS Version: 1.45.0 Command: E:\biocbuild\bbs-3.21-bioc\R\bin\R.exe CMD check --no-multiarch --install=check:COMPASS.install-out.txt --library=E:\biocbuild\bbs-3.21-bioc\R\library --no-vignettes --timings COMPASS_1.45.0.tar.gz StartedAt: 2025-01-31 23:36:35 -0500 (Fri, 31 Jan 2025) EndedAt: 2025-01-31 23:39:20 -0500 (Fri, 31 Jan 2025) EllapsedTime: 165.2 seconds RetCode: 0 Status: OK CheckDir: COMPASS.Rcheck Warnings: 0