Package: CNVrd2 Version: 1.45.0 Command: E:\biocbuild\bbs-3.21-bioc\R\bin\R.exe CMD INSTALL CNVrd2 StartedAt: 2025-01-31 16:09:39 -0500 (Fri, 31 Jan 2025) EndedAt: 2025-01-31 16:10:34 -0500 (Fri, 31 Jan 2025) EllapsedTime: 55.0 seconds RetCode: 0 Status: OK