Package: CNVrd2 Version: 1.45.0 Command: chmod a+r CNVrd2 -R && E:\biocbuild\bbs-3.21-bioc\R\bin\R.exe CMD build --keep-empty-dirs --no-resave-data CNVrd2 StartedAt: 2025-01-31 17:49:28 -0500 (Fri, 31 Jan 2025) EndedAt: 2025-01-31 17:51:06 -0500 (Fri, 31 Jan 2025) EllapsedTime: 98.4 seconds RetCode: 0 Status: OK PackageFile: CNVrd2_1.45.0.tar.gz PackageFileSize: 2.54 MiB