Package: CNVRanger Version: 1.23.0 Command: /home/biocbuild/bbs-3.21-bioc/R/bin/R CMD INSTALL CNVRanger StartedAt: 2025-01-31 15:21:58 -0500 (Fri, 31 Jan 2025) EndedAt: 2025-01-31 15:22:20 -0500 (Fri, 31 Jan 2025) EllapsedTime: 22.0 seconds RetCode: 0 Status: OK