Package: CNVPanelizer Version: 1.39.0 Command: /home/biocbuild/bbs-3.21-bioc/R/bin/R CMD INSTALL CNVPanelizer StartedAt: 2025-01-31 15:58:42 -0500 (Fri, 31 Jan 2025) EndedAt: 2025-01-31 15:59:02 -0500 (Fri, 31 Jan 2025) EllapsedTime: 19.7 seconds RetCode: 0 Status: OK