Package: CNVPanelizer Version: 1.39.0 Command: /home/biocbuild/bbs-3.21-bioc/R/bin/R CMD build --keep-empty-dirs --no-resave-data CNVPanelizer StartedAt: 2025-01-31 16:45:39 -0500 (Fri, 31 Jan 2025) EndedAt: 2025-01-31 16:46:57 -0500 (Fri, 31 Jan 2025) EllapsedTime: 78.1 seconds RetCode: 0 Status: OK PackageFile: CNVPanelizer_1.39.0.tar.gz PackageFileSize: 363.1 KiB