Package: CNORdt Version: 1.49.0 Command: /home/biocbuild/R/R/bin/R CMD check --install=check:CNORdt.install-out.txt --library=/home/biocbuild/R/R/site-library --no-vignettes --timings CNORdt_1.49.0.tar.gz StartedAt: 2025-01-28 09:18:47 -0000 (Tue, 28 Jan 2025) EndedAt: 2025-01-28 09:20:45 -0000 (Tue, 28 Jan 2025) EllapsedTime: 118.1 seconds RetCode: 0 Status: OK CheckDir: CNORdt.Rcheck Warnings: 0