Package: CMA Version: 1.65.0 Command: E:\biocbuild\bbs-3.21-bioc\R\bin\R.exe CMD check --no-multiarch --install=check:CMA.install-out.txt --library=E:\biocbuild\bbs-3.21-bioc\R\library --no-vignettes --timings CMA_1.65.0.tar.gz StartedAt: 2025-01-31 23:30:30 -0500 (Fri, 31 Jan 2025) EndedAt: 2025-01-31 23:31:44 -0500 (Fri, 31 Jan 2025) EllapsedTime: 73.5 seconds RetCode: 0 Status: OK CheckDir: CMA.Rcheck Warnings: 0