Package: CMA Version: 1.65.0 Command: rm -rf CMA.buildbin-libdir && mkdir CMA.buildbin-libdir && E:\biocbuild\bbs-3.21-bioc\R\bin\R.exe CMD INSTALL --build --library=CMA.buildbin-libdir CMA_1.65.0.tar.gz StartedAt: 2025-02-01 06:56:11 -0500 (Sat, 01 Feb 2025) EndedAt: 2025-02-01 06:56:59 -0500 (Sat, 01 Feb 2025) EllapsedTime: 47.8 seconds RetCode: 0 Status: OK PackageFile: CMA_1.65.0.zip PackageFileSize: 1.723 MiB