Package: CMA Version: 1.65.0 Command: /home/biocbuild/bbs-3.21-bioc/R/bin/R CMD INSTALL CMA StartedAt: 2025-01-31 15:09:31 -0500 (Fri, 31 Jan 2025) EndedAt: 2025-01-31 15:09:49 -0500 (Fri, 31 Jan 2025) EllapsedTime: 18.2 seconds RetCode: 0 Status: OK