Package: CINdex Version: 1.35.0 Command: E:\biocbuild\bbs-3.21-bioc\R\bin\R.exe CMD INSTALL CINdex StartedAt: 2025-02-02 15:42:23 -0500 (Sun, 02 Feb 2025) EndedAt: 2025-02-02 15:42:55 -0500 (Sun, 02 Feb 2025) EllapsedTime: 31.4 seconds RetCode: 0 Status: OK