Package: CHRONOS Version: 1.35.0 Command: /home/biocbuild/bbs-3.21-bioc/R/bin/R CMD INSTALL CHRONOS StartedAt: 2025-01-31 15:57:51 -0500 (Fri, 31 Jan 2025) EndedAt: 2025-01-31 15:58:12 -0500 (Fri, 31 Jan 2025) EllapsedTime: 20.9 seconds RetCode: 0 Status: OK