Package: CHRONOS Version: 1.35.0 Command: /home/biocbuild/bbs-3.21-bioc/R/bin/R CMD check --install=check:CHRONOS.install-out.txt --library=/home/biocbuild/bbs-3.21-bioc/R/site-library --timings CHRONOS_1.35.0.tar.gz StartedAt: 2025-01-31 20:56:44 -0500 (Fri, 31 Jan 2025) EndedAt: 2025-01-31 20:59:28 -0500 (Fri, 31 Jan 2025) EllapsedTime: 163.2 seconds RetCode: 0 Status: OK CheckDir: CHRONOS.Rcheck Warnings: 0