Package: CHRONOS Version: 1.35.0 Command: /home/biocbuild/R/R/bin/R CMD INSTALL CHRONOS StartedAt: 2025-01-29 20:31:40 -0000 (Wed, 29 Jan 2025) EndedAt: 2025-01-29 20:32:08 -0000 (Wed, 29 Jan 2025) EllapsedTime: 28.3 seconds RetCode: 0 Status: OK