Package: CGHregions Version: 1.65.0 Command: /home/biocbuild/bbs-3.21-bioc/R/bin/R CMD build --keep-empty-dirs --no-resave-data CGHregions StartedAt: 2025-01-31 16:39:19 -0500 (Fri, 31 Jan 2025) EndedAt: 2025-01-31 16:39:29 -0500 (Fri, 31 Jan 2025) EllapsedTime: 10.0 seconds RetCode: 0 Status: OK PackageFile: CGHregions_1.65.0.tar.gz PackageFileSize: 213.5 KiB