Package: CBEA Version: 1.7.1 Command: /home/biocbuild/bbs-3.21-bioc/R/bin/R CMD INSTALL CBEA StartedAt: 2025-01-31 15:45:51 -0500 (Fri, 31 Jan 2025) EndedAt: 2025-01-31 15:46:30 -0500 (Fri, 31 Jan 2025) EllapsedTime: 39.0 seconds RetCode: 0 Status: OK