Package: CATALYST Version: 1.31.2 Command: chmod a+r CATALYST -R && E:\biocbuild\bbs-3.21-bioc\R\bin\R.exe CMD build --keep-empty-dirs --no-resave-data CATALYST StartedAt: 2025-01-31 17:33:16 -0500 (Fri, 31 Jan 2025) EndedAt: 2025-01-31 17:41:57 -0500 (Fri, 31 Jan 2025) EllapsedTime: 520.7 seconds RetCode: 0 Status: OK PackageFile: CATALYST_1.31.2.tar.gz PackageFileSize: 6.746 MiB