Package: CAMERA Version: 1.63.0 Command: /Library/Frameworks/R.framework/Resources/bin/R CMD INSTALL CAMERA StartedAt: 2025-01-31 15:19:08 -0500 (Fri, 31 Jan 2025) EndedAt: 2025-01-31 15:19:28 -0500 (Fri, 31 Jan 2025) EllapsedTime: 19.7 seconds RetCode: 0 Status: OK