Package: CAMERA Version: 1.63.0 Command: /Library/Frameworks/R.framework/Resources/bin/R CMD build --keep-empty-dirs --no-resave-data CAMERA StartedAt: 2025-01-31 15:46:49 -0500 (Fri, 31 Jan 2025) EndedAt: 2025-01-31 15:47:21 -0500 (Fri, 31 Jan 2025) EllapsedTime: 31.3 seconds RetCode: 0 Status: OK PackageFile: CAMERA_1.63.0.tar.gz PackageFileSize: 2.424 MiB