Package: CAFE Version: 1.43.0 Command: /home/biocbuild/R/R/bin/R CMD INSTALL CAFE StartedAt: 2025-01-29 20:10:36 -0000 (Wed, 29 Jan 2025) EndedAt: 2025-01-29 20:11:52 -0000 (Wed, 29 Jan 2025) EllapsedTime: 75.7 seconds RetCode: 0 Status: OK